BEGIN:VCALENDAR
VERSION:2.0
PRODID:-//wp-events-plugin.com//7.2.3.1//EN
TZID:Europe/Stockholm
X-WR-TIMEZONE:Europe/Stockholm
BEGIN:VEVENT
UID:34@proskandia.se
DTSTART;TZID=Europe/Stockholm:20191002T180000
DTEND;TZID=Europe/Stockholm:20191002T193000
DTSTAMP:20190919T124639Z
URL:https://proskandia.se/evenemang/agarmote-2-oktober-negativ-ranta-stjar
 nforvaltarnas-kamp-i-en-osaker-tid-2/
SUMMARY:Ägarmöte 2 oktober. Negativ ränta. Stjärnförvaltarnas kamp i e
 n osäker tid
DESCRIPTION:Bästa medlem i ProSkandia! Välkommen till höstens första 
 ägarmöte i Stockholm. Under rubriken "Stjärnförvaltarnas kamp i en os
 äker tid"\,  har vi bjudit in till samtal mellan Lars-Göran Orrevall\, 
 chef för Skandias kapitalförvaltning\, och Peter Malmqvist\,\n\n[caption
  id="attachment_4631" align="alignright" width="254"] Peter Malmqvist[/cap
 tion]\n\n\n\n\n[caption id="attachment_3697" align="alignleft" width="300"
 ] Lars-Göran Orrevall[/caption]\n\nfinansanalytiker och ansvarig för Akt
 iespararnas analysguide. Det blir ett samtal om den negativa räntan\, hu
 r den påverkar Skandias förvaltning av våra pensioner och hur vi ska pl
 acera våra pengar på börsen. Lars-Göran kommer tala under rubriken "in
 vesteringsstrategier i en värld med negativa räntor" och Peter Malmqvist
  under rubriken "vinstutvecklingen i börsbolagen när konjunkturpilarna p
 ekar ned".\n\nSamtalen leds av ordförande Hans G Svensson och ledamot Sop
 hie Nachemson-Ekwall. Mötet kommer återges på efterföljande träffar r
 unt om i landet. Skandias pensionsrådgivare Michael Huss bjuder samtidig
 t in till ett miniseminarium. Temat blir Pensionsoptimering.\n\nVar: Skan
 diasalen\, Skandias huvudkontor\, Lindhagensgatan 86\, Stockholm\n\nNär:
  Onsdag den 2 oktober 2019\n\n16.30 – 18.00 Registrering\, kaffe och t
 illtugg\n\n17.00- 17.45 Miniseminarium med Skandias pensionsrådgivare M
 ichael Huss\n\n18.00 – 19.30 (ca) Ägarseminarium\n\nDu anmäler dig und
 er evenemang (fliken kommer up snart).  Sista anmälningsdag: 29 septemb
 er. Antalet platser är begränsat så anmäl dig snarast. Om du har anm
 ält dig och inte kan komma ber vi att du avanmäler dig så att någon an
 nan kan få din plats.\n\nÖvriga medlemsmöten blir i Göteborg (16 okto
 ber) och Malmö (23 oktober).\n\nVarmt välkommen!\n\nProSkandias styrelse
 \n\n
LOCATION:Skandias Huvudkontor\, Lindhagensgatan 86\, Stockholm\, Sverige
GEO:59.333504;18.017076
X-APPLE-STRUCTURED-LOCATION;VALUE=URI;X-ADDRESS=Lindhagensgatan 86\, Stockh
 olm\, Sverige;X-APPLE-RADIUS=100;X-TITLE=Skandias Huvudkontor:geo:59.33350
 4,18.017076
END:VEVENT
BEGIN:VTIMEZONE
TZID:Europe/Stockholm
X-LIC-LOCATION:Europe/Stockholm
BEGIN:DAYLIGHT
DTSTART:20190331T030000
TZOFFSETFROM:+0100
TZOFFSETTO:+0200
TZNAME:CEST
END:DAYLIGHT
END:VTIMEZONE
END:VCALENDAR