BEGIN:VCALENDAR
VERSION:2.0
PRODID:-//wp-events-plugin.com//7.2.3.1//EN
TZID:Europe/Stockholm
X-WR-TIMEZONE:Europe/Stockholm
BEGIN:VEVENT
UID:37@proskandia.se
DTSTART;TZID=Europe/Stockholm:20200205T180000
DTEND;TZID=Europe/Stockholm:20200205T193000
DTSTAMP:20200131T085644Z
URL:https://proskandia.se/evenemang/ardalan-shekarabi/
SUMMARY:Ardalan Shekarabi
DESCRIPTION:Kan vi lita på det nya pensionssystemet? Det är rubriken när
  Ardalan Shekarabi\, socialförsäkringsminister sedan 1 oktober 2019\, ko
 mmer till ProSkandias årliga fördjupningsseminarium i Stockholm den 5 fe
 bruari 2020 kl 18.00. Med på scen är även Mikael Westerberg\, som preci
 s utrett hur det nya PPM-fondtorget ska se ut och hur premiepensionssystem
 et kan reformeras\, och Mojtaba Ghodsi\, kommunikationsansvar på Skandia 
 och som varit med och tagit fram flera av de undersökningar som Skandia p
 resenterat rörande våra pensioner.\n\nVar: Skandiasalen\, Skandias huvud
 kontor\, Lindhagensgatan 86\, Stockholm\n\nNär: onsdag 5 februari 2020\n\
 n17.30 – 18.00 Registrering\, kaffe och tilltugg. Inget miniseminarium k
 ommer att hållas denna gång.\n\n18.00–19.30 Fördjupningsseminarium: S
 amtalen leds av ordförande Hans G Svensson.\n\nDu anmäler dig nedan. Ant
 alet platser är begränsat så anmäl dig snarast. Om du har anmält dig 
 och inte kan komma ber vi att du avanmäler dig så att någon annan kan f
 å din plats.\n\nSista anmälningsdag är 2 februari 2020. Hjälp med val 
 till fullmäktige kommer att finnas. Varmt välkommen!
LOCATION:Skandias huvudkontor\, Lindhagens plan\, Stockholm\, Sverige
GEO:59.335770;18.012140
X-APPLE-STRUCTURED-LOCATION;VALUE=URI;X-ADDRESS=Lindhagens plan\, Stockholm
 \, Sverige;X-APPLE-RADIUS=100;X-TITLE=Skandias huvudkontor:geo:59.335770,1
 8.012140
END:VEVENT
BEGIN:VTIMEZONE
TZID:Europe/Stockholm
X-LIC-LOCATION:Europe/Stockholm
BEGIN:STANDARD
DTSTART:20191027T020000
TZOFFSETFROM:+0200
TZOFFSETTO:+0100
TZNAME:CET
END:STANDARD
END:VTIMEZONE
END:VCALENDAR