BEGIN:VCALENDAR
VERSION:2.0
PRODID:-//wp-events-plugin.com//7.2.3.1//EN
TZID:Europe/Stockholm
X-WR-TIMEZONE:Europe/Stockholm
BEGIN:VEVENT
UID:7@proskandia.se
DTSTART;TZID=Europe/Stockholm:20160217T180000
DTEND;TZID=Europe/Stockholm:20160217T200000
DTSTAMP:20160211T130851Z
URL:https://proskandia.se/evenemang/fordjupningsseminarium-17-februari/
SUMMARY:Fördjupningsseminarium 17 februari
DESCRIPTION:[caption id="attachment_2398" align="alignnone" width="235"] Ha
 ns-Erik Andersson ordförande Skandia[/caption]\n\n[caption id="attachment
 _2399" align="aligncenter" width="233"] Öyjvind Thomassen vd Skandiabanke
 n[/caption]\n\n[caption id="attachment_2400" align="alignright" width="175
 "] Kristina Hagström hälsostrateg Skandia[/caption]\n\nVälkommen till 
 Årets Fördjupningsseminarium \n\nonsdagen den 17 februari\n\ninkl. minis
 eminarium om försäkringsfrågor \n\nBäste medlem i ProSkandia\n\nNu ä
 r det dags för ProSkandias årliga fördjupningsseminarium för medlemmar
 na där vi tar upp viktiga frågeställningar avseende Skandias verksamhet
 . Samtidigt arrangerar Skandia ett miniseminarium om frågor som berör di
 na försäkringar.\n\nNär: Onsdag 17 februari 2016\n\n16.45–18.00 Regis
 trering\, kaffe och tilltugg\n\n17.00–17.30 Miniseminarium om viktiga f
 örsäkringsfrågor i Skandias regi\n\n18.00–20.00 Fördjupningsseminari
 um\n\nVar: Skandiasalen\, Skandias huvudkontor\, Lindhagensgatan 86\, Stoc
 kholm\n\nMiniseminariet hålls i rum Trafikskolan/Säkerhetsbältet\n\nHuv
 udtemat 2016 är Skandias Bank som presenteras av Skandias bankchef Öyvin
 d Thomassen. Stora förändringar är genomförda under 2015. Den norska d
 elen av banken noterades 2015 på Oslobörsen och bankens administrativa s
 ystem byttes ut. Banken har även vuxit starkt inom bolån. Detta har krä
 vt tillskott av kapital från ägaren Skandia Liv. Därtill talar Skandias
  nye styrelseordförande Hans-Erik Andersson och Kristina Hagström\, som 
 ska berätta om Skandias uppmärksammade och framgångsrika hälsoarbete. 
 Seminariet sker i samarbete med Skandia.\n\nProSkandias seminarieprogram k
 l. 18  \n\n	Hans-Erik Andersson\, Skandias styrelseordförande redogör f
 ör styrelsens uppfattning om vilka viktiga utmaningar Skandia står infö
 r för en fortsatt god kapitalavkastning.\n	Öyvind Thomassen\, Skandias b
 ankchef. Vad gör banken för att bli en god investering för dess ägare 
 – försäkringstagarna och de försäkrade i Skandia Liv?\n	Kristina Hag
 ström\, hälsostrateg på Skandia talar om ”Ohälsans pris”.\n	ProSka
 ndias ordförande Leif Hansson hälsar välkommen och svarar på frågor o
 m föreningen. Sophie Nachemson-Ekwall modererar.\n\n&nbsp\;\n\nMinisemina
 rium om försäkringsfrågor kl. 17. \n\nMichael Huss och Susanne Grönvi
 k på Skandia tar upp viktiga frågor kring dina försäkringar\,\n\n	Utbe
 talningsfrågor\n	Pensionsoptimering\n	Är ditt förmånstagarförordnande
  rätt utformat?\n	Vad händer om tiden för familjegarantin gått ut?\n	L
 ivsvariga eller temporära uttag?\n	Skattekonsekvenser?\n	Arvsvinster och 
 riskintäkter och dess inverkan.\n	Innebörden av enskild egendom?\n	Vad m
 enas med fri respektive full förfoganderätt?\n\nAnmälan här senast de
 n 12 februari.\n\nSeminarierna är bara för medlemmar\, så kom ihåg att
  betala in din årsavgift i tid.
LOCATION:Skandias Huvudkontor\, Lindhagensgatan 86\, Stockholm\, Sverige
GEO:59.333504;18.017076
X-APPLE-STRUCTURED-LOCATION;VALUE=URI;X-ADDRESS=Lindhagensgatan 86\, Stockh
 olm\, Sverige;X-APPLE-RADIUS=100;X-TITLE=Skandias Huvudkontor:geo:59.33350
 4,18.017076
END:VEVENT
BEGIN:VTIMEZONE
TZID:Europe/Stockholm
X-LIC-LOCATION:Europe/Stockholm
BEGIN:STANDARD
DTSTART:20151025T020000
TZOFFSETFROM:+0200
TZOFFSETTO:+0100
TZNAME:CET
END:STANDARD
END:VTIMEZONE
END:VCALENDAR