BEGIN:VCALENDAR
VERSION:2.0
PRODID:-//wp-events-plugin.com//7.2.3.1//EN
TZID:Europe/Stockholm
X-WR-TIMEZONE:Europe/Stockholm
BEGIN:VEVENT
UID:59@proskandia.se
DTSTART;TZID=Europe/Stockholm:20240425T180000
DTEND;TZID=Europe/Stockholm:20240425T190000
DTSTAMP:20240417T072415Z
URL:https://proskandia.se/evenemang/kallelse-till-ordinarie-foreningsstamm
 a-i-agarforeningen-proskandia-den-25-april-2024/
SUMMARY:Kallelse till ordinarie föreningsstämma i Ägarföreningen ProSka
 ndia den 25 april 2024
DESCRIPTION:Ordinarie föreningsstämma avseende 2023 års verksamhet håll
 s torsdagen den 25 april 2024 kl.18.00 i Skandiasalen i Skandiahuset\, Li
 ndhagensgatan 86 i Stockholm. Kaffe/te och smörgås serveras från kl. 1
 7.30. Du kan också följa stämman\, men utan att medverka\, via det digi
 tala verktyget ”Teams”. \nFör vår planering vill vi gärna att du a
 nmäler ditt deltagande senast den 15 april. Du kan också skicka din anm
 älan till Ägarföreningen ProSkandia\, Box 3398\, 103 68 Stockholm. Ange
  också om du kommer att delta i stämman i Skandiahuset eller om du endas
 t följer stämman digitalt via Teams.\nOm du endast vill följa stämman 
 via Teams kommer du efter anmälan att få ett mail med en länk för att 
 kunna följa stämman men utan möjlighet att rösta eller att yttra dig.
  \nFöre stämmoförhandlingarna\, med början kl. 18.00\, kommer styrels
 eordföranden i Skandia\, Hans Larsson\, att hålla ett anförande. \nÅr
 sberättelse med ekonomisk redovisning och revisionsberättelse finns utla
 gd på hemsidan och kommer att finnas tillgänglig vid stämman.\nValbered
 ningens förslag till styrelse kommer att läggas ut på föreningens hems
 ida före stämman. Vi bedömer att själva stämman tar cirka 45 minuter.
 \n\nHar du frågor\, idéer och synpunkter – hör gärna av dig till pro
 skandia.se eller Ägarföreningen ProSkandia\, Box 3398\, 103 68 Stockhol
 m.\nVarmt välkommen till Ägarföreningen ProSkandias föreningsstämma!\
 nStyrelsen
LOCATION:Skandiasalen\, Lindhagensgatan 86\, 112 18 Stockholm\, Stockholm\,
  Stockholm\, 11218\, Stockholm\, Sverige
X-APPLE-STRUCTURED-LOCATION;VALUE=URI;X-ADDRESS=Lindhagensgatan 86\, 112 18
  Stockholm\, Stockholm\, Stockholm\, 11218\, Stockholm\, Sverige;X-APPLE-R
 ADIUS=100;X-TITLE=Skandiasalen:geo:0,0
END:VEVENT
BEGIN:VTIMEZONE
TZID:Europe/Stockholm
X-LIC-LOCATION:Europe/Stockholm
BEGIN:DAYLIGHT
DTSTART:20240331T030000
TZOFFSETFROM:+0100
TZOFFSETTO:+0200
TZNAME:CEST
END:DAYLIGHT
END:VTIMEZONE
END:VCALENDAR