BEGIN:VCALENDAR
VERSION:2.0
PRODID:-//wp-events-plugin.com//7.2.3.1//EN
TZID:Europe/Stockholm
X-WR-TIMEZONE:Europe/Stockholm
BEGIN:VEVENT
UID:64@proskandia.se
DTSTART;TZID=Europe/Stockholm:20250428T163000
DTEND;TZID=Europe/Stockholm:20250428T173000
DTSTAMP:20250426T101719Z
URL:https://proskandia.se/evenemang/kallelse-till-ordinarie-foreningsstamm
 a-i-agarforeningen-proskandia/
SUMMARY:Kallelse till ordinarie föreningsstämma i Ägarföreningen ProSka
 ndia
DESCRIPTION:Kallelse till ordinarie föreningsstämma i Ägarföreningen Pr
 oSkandia den 28 april 2025 - med inledande anförande av ordföranden i Sk
 andias fullmäktige och en lägesrapport från kapitalförvaltningen \n\nO
 rdinarie föreningsstämma avseende 2024 års verksamhet hålls måndagen 
 den 28 april 2025 kl.16.30 i Skandiasalen i Skandiahuset\, Lindhagensgata
 n 86 i Stockholm. Kaffe/te och smörgås serveras från kl. 16.00. Du kan
  också följa stämman\, men utan att medverka\, via det digitala verktyg
 et ”Teams”.\n\nFöre stämmoförhandlingarna\, med början kl. 16.30\,
  kommer ordföranden i Skandias fullmäktige Dan Brännström att hålla e
 tt anförande. Maria Qundos gruppchef på Skandias kapitalmarknader ger oc
 kså en orientering om kapitalförvaltningsläget i en fortsatt global oro
 .\n\nAnmäl ditt deltagande här senast den 22 april. Glöm inte att ange 
 om du deltar fysiskt i mötet i Skandiasalen eller om du bara deltar digit
 alt! Om du endast vill följa stämman via Teams kommer du efter en anmäl
 an med önskemål att endast delta digitalt att få ett mail med en länk 
 för att kunna följa stämman men utan möjlighet att rösta eller att yt
 tra dig.\n\nÅrsberättelse med ekonomisk redovisning och revisionsberätt
 else finns utlagd här på ProSkandias hemsida och kommer att finnas tillg
 änglig vid stämman.
LOCATION:Skandiasalen\, Lindhagensgatan 86\, 112 18 Stockholm\, Stockholm\,
  Stockholm\, 11218\, Stockholm\, Sverige
X-APPLE-STRUCTURED-LOCATION;VALUE=URI;X-ADDRESS=Lindhagensgatan 86\, 112 18
  Stockholm\, Stockholm\, Stockholm\, 11218\, Stockholm\, Sverige;X-APPLE-R
 ADIUS=100;X-TITLE=Skandiasalen:geo:0,0
END:VEVENT
BEGIN:VTIMEZONE
TZID:Europe/Stockholm
X-LIC-LOCATION:Europe/Stockholm
BEGIN:DAYLIGHT
DTSTART:20250330T030000
TZOFFSETFROM:+0100
TZOFFSETTO:+0200
TZNAME:CEST
END:DAYLIGHT
END:VTIMEZONE
END:VCALENDAR