BEGIN:VCALENDAR
VERSION:2.0
PRODID:-//wp-events-plugin.com//7.2.3.1//EN
TZID:Europe/Stockholm
X-WR-TIMEZONE:Europe/Stockholm
BEGIN:VEVENT
UID:14@proskandia.se
DTSTART;TZID=Europe/Stockholm:20161109T170000
DTEND;TZID=Europe/Stockholm:20161109T200000
DTSTAMP:20161107T174223Z
URL:https://proskandia.se/evenemang/malmo-hur-lange-ska-vi-leva-med-minusr
 anta-agarmote-onsdagen-den-9-november-2016/
SUMMARY:Malmö: Hur länge ska vi leva med minusränta? Ägarmöte onsdagen
  den 9  november 2016
DESCRIPTION:Välkommen till höstens ägarmöte för våra medlemmar\, onsd
 agen den 9  november 2016.\n\n&nbsp\;\n\nHuvudtemat för ägarmötet är 
 ”Våra pensioner i en värld med minusränta. Hur länge ska vi tvingas 
 leva med det?” \n\n&nbsp\;\n\nVid ägarmötet i Stockholm några veckor
  tidigare gästades vi av Cecilia Skingsley\, vice riksbankschef\, Christe
 r Käck\, tidigare räntechef på Skandia och Lars-Göran Orrevall\, vd f
 ör Skandias kapitalförvaltning. Det blev ett kritiskt samtal med tonvikt
  på att stärka våra medlemmars förmåga att både förstå hur Skandia
  hanterar nuvarande svåra marknadsläge och att sätta in riksbankens och
  dagens lågränteläge i ett större sammanhang.\n\n&nbsp\;\n\nFrån dett
 a samtal har det gjorts en sammanställning\, som kommer att presenteras i
  Malmö den 9 november av Leif Hanssson och Eva Serenhov\, som båda var n
 ärvarande vid seminariet i Stockholm. Leif Hansson är ordförande i ProS
 kandia och ledamot i Skandias fullmäktige. Eva Serenhov är ledamot i Pro
 Skandias styrelse och ledamot i valberedningen till Skandias fullmäktige.
 \n\n&nbsp\;\n\nNils Bacos\, från Lund och ledamot i Skandias fullmäktige
 \, är också med på vårt möte och kommer att berätta om sitt uppdrag 
 i fullmäktige och vad han tycker är viktigt för Skandia i framtiden.\n\
 n&nbsp\;\n\nChefen i Malmö\, Jonas Andersson\, kommer att tillsammans med
  några av sina medarbetare ta upp frågor som ligger oss försäkringstag
 are varmt om hjärtat och viktigt om Skandias utveckling.\n\nVarmt välkom
 men!\n\n&nbsp\;\n\nPlats:\nSkandias kontor i Malmö\, Södergatan 22\n\nH
 ålltider\n\n17.00–18.00 Registrering\, kaffe och tilltugg\n18.00 – 20
 .00 Medlemsmöte med fokus på räntan\, Nils Bacos om fullmäktige och v
 ad som händer i Malmö med Jonas Andersson och medarbetare.\n\nAntalet pl
 atser är begränsat så anmäl dig tidigt.\n\n&nbsp\;\n\nDu anmäler dig 
 här nedan. Sista anmälningsdag är den 5 november.
LOCATION:Skandias kontor\, Södergatan 22\, Malmö\, Sverige
GEO:55.604405;13.001362
X-APPLE-STRUCTURED-LOCATION;VALUE=URI;X-ADDRESS=Södergatan 22\, Malmö\, S
 verige;X-APPLE-RADIUS=100;X-TITLE=Skandias kontor:geo:55.604405,13.001362
END:VEVENT
BEGIN:VTIMEZONE
TZID:Europe/Stockholm
X-LIC-LOCATION:Europe/Stockholm
BEGIN:STANDARD
DTSTART:20161030T020000
TZOFFSETFROM:+0200
TZOFFSETTO:+0100
TZNAME:CET
END:STANDARD
END:VTIMEZONE
END:VCALENDAR