BEGIN:VCALENDAR
VERSION:2.0
PRODID:-//wp-events-plugin.com//7.2.3.1//EN
TZID:Europe/Stockholm
X-WR-TIMEZONE:Europe/Stockholm
BEGIN:VEVENT
UID:45@proskandia.se
DTSTART;TZID=Europe/Stockholm:20211019T164500
DTEND;TZID=Europe/Stockholm:20211019T190000
DTSTAMP:20211015T073612Z
URL:https://proskandia.se/evenemang/medlemsmote-19-oktober-2021/
SUMMARY:Medlemsmöte 19 oktober 2021
DESCRIPTION:Går det att vara bäst i klassen eller finns det alltid att l
 ära? \nVälkommen till ett samtal med Skandias hållbarhetschef Helena 
 Hagberg och chefen för kapitalförvaltning Lars-Göran Orrevall som m
 öter Johan Florén\, ansvarig för kommunikation och ägarstyrning på d
 en Sjunde AP-fonden\, (ickevalsalternativet i premiepensionssystemet)\, oc
 h SEB:s Hans Beyer\, med bakgrund från bankens storföretagsaffär och nu
 mera ansvarig för hållbarhet. Helena Hagberg berättar lite mer brett om
  kraven på hållbarhet i det stora pensionsbolaget innan fokus läggs på
  hållbarhet i kapitalförvaltningen. Sophie Nachemson-Ekwall från ProSk
 andia modererar.\nProSkandias ordförande Lars Bergendal berättar inledni
 ngsvis om ProSkandias verksamhet.\nTid: 17.30-19.00 19 oktober 2021. Smö
 rgås serveras från 17.00.\nPlats: Fysiskt möte på Skandias huvudkontor
  på Lindhagensgatan 86\, Stockholm. Mötet kan också följas digitalt vi
 a zoom. Är du med på zoom\; logga in från 17.00.\nMiniseminarium: 16.45
 -17:15 Lokal ”von Kock” med Skandias rådgivare Michael Huss\, Christi
 an Svensson Unger samt Aylin Yildiz. Agendan blir Aktuella nyheter\, bl.a.
  Skandias inflyttserbjudande gällande pensionskapital. Dessutom lyfts fr
 ågor kring hur man sparar hållbart för egen del med hjälp av exempelvi
 s Skandias modellportföljer\, samt hur dessa placeringar genom försäkri
 ng kan förbättra pensionen och styra kapital vid dödsfall.\nFör vår p
 lanering vill vi gärna att du anmäler ditt deltagande senast den 14 okto
 ber här nedan eller  till info@proskandia.se. Meddela om du kommer att d
 elta via zoomlänk eller om du kommer att delta fysiskt i Skandiasalen.
LOCATION:Skandias Huvudkontor\, Lindhagensgatan 86\, Stockholm\, Sverige
GEO:59.333504;18.017076
X-APPLE-STRUCTURED-LOCATION;VALUE=URI;X-ADDRESS=Lindhagensgatan 86\, Stockh
 olm\, Sverige;X-APPLE-RADIUS=100;X-TITLE=Skandias Huvudkontor:geo:59.33350
 4,18.017076
END:VEVENT
BEGIN:VTIMEZONE
TZID:Europe/Stockholm
X-LIC-LOCATION:Europe/Stockholm
BEGIN:DAYLIGHT
DTSTART:20210328T030000
TZOFFSETFROM:+0100
TZOFFSETTO:+0200
TZNAME:CEST
END:DAYLIGHT
END:VTIMEZONE
END:VCALENDAR