BEGIN:VCALENDAR
VERSION:2.0
PRODID:-//wp-events-plugin.com//7.2.3.1//EN
TZID:Europe/Stockholm
X-WR-TIMEZONE:Europe/Stockholm
BEGIN:VEVENT
UID:55@proskandia.se
DTSTART;TZID=Europe/Stockholm:20231011T164500
DTEND;TZID=Europe/Stockholm:20231011T193000
DTSTAMP:20231007T112212Z
URL:https://proskandia.se/evenemang/medlemsmote-den-11-oktober-2023/
SUMMARY:Medlemsmöte den 11 oktober 2023
DESCRIPTION:Tema: Både staten och Skandia har stora aktieinnehav som ger m
 akt i företag. Vilka metoder och mål för denna bolagsstyrning använder
  staten respektive Skandia?  Och hur placerar Skandia och pensionssparare
 n i dagens knepiga ekonomiska läge?\n\nVälkommen till en kväll med chef
 en för bolagsförvaltning inom avdelningen för bolag med statligt ägand
 e på Finansdepartementet Måns Carlson samt från kapitalförvaltningen p
 å Skandia gruppcheferna Per Lindgren och Maria Qundos samt Oskar Börjess
 on\, senior analytiker. På Skandia är ägarstyrningen inom kapitalförva
 ltningen en del av bolagets hållbarhetsarbete (”ESG-arbete”) och vi h
 oppas därför att Skandias helt nytillträdde hållbarhetschef Gabriel Lu
 ndström också kan besöka oss.\n\nFöre medlemsmötet ligger ett förmö
 te med Skandias privatrådgivare och familjerättsjurister.\n\nFörmöte: 
 16.45-17.30. Lokal: rum von Koch. Skandias privatrådgivare Michael Huss i
 nformerar kort om aktuella nyheter. De vid tidigare möten mycket uppskatt
 ade familjerättsjuristerna från Verahill familjejuridik har åter bjudit
 s in för att reda ut flera viktiga frågor kring framtidsfullmakt\, testa
 menten m.m.\n\nMedlemsmöte: 18.00-19.30. Smörgås serveras från 17.30.
 \n\nPlats: Fysiskt möte i Skandiasalen på Skandias huvudkontor på Lindh
 agensgatan 86\, Stockholm. Mötet kan också följas digitalt via Teams. 
 \n\nFör vår planering vill vi gärna att du anmäler ditt deltagande sen
 ast den 6 oktober här nedan eller till info@proskandia.se. Glöm inte att
  i rutan Kommentar ange om du kommer att delta i mötet i Skandiahuset ell
 er om du endast följer mötet digitalt via Teams. Den som anmält att han
  eller hon följer mötet digitalt kommer att få mail med en länk till m
 ötet. Länken kommer skickas dagen före mötet och påminnelse samma dag
 .\n\nVälkommen!\n\n \n 
LOCATION:Skandias Huvudkontor\, Lindhagensgatan 86\, Stockholm\, Sverige
GEO:59.333504;18.017076
X-APPLE-STRUCTURED-LOCATION;VALUE=URI;X-ADDRESS=Lindhagensgatan 86\, Stockh
 olm\, Sverige;X-APPLE-RADIUS=100;X-TITLE=Skandias Huvudkontor:geo:59.33350
 4,18.017076
END:VEVENT
BEGIN:VTIMEZONE
TZID:Europe/Stockholm
X-LIC-LOCATION:Europe/Stockholm
BEGIN:DAYLIGHT
DTSTART:20230326T030000
TZOFFSETFROM:+0100
TZOFFSETTO:+0200
TZNAME:CEST
END:DAYLIGHT
END:VTIMEZONE
END:VCALENDAR