BEGIN:VCALENDAR
VERSION:2.0
PRODID:-//wp-events-plugin.com//7.2.3.1//EN
TZID:Europe/Stockholm
X-WR-TIMEZONE:Europe/Stockholm
BEGIN:VEVENT
UID:44@proskandia.se
DTSTART;TZID=Europe/Stockholm:20210908T173000
DTEND;TZID=Europe/Stockholm:20210908T190000
DTSTAMP:20210906T050705Z
URL:https://proskandia.se/evenemang/pandemin-halsan-och-forsakringar-vad-v
 i-vet-och-vart-vi-ar-pa-vag/
SUMMARY:Pandemin\, hälsan och försäkringar. Vad vi vet och vart vi är p
 å väg?
DESCRIPTION:Välkommen till medlemsmöte 8 september 2021 kl 17.30\, som bl
 ir ett Zoom-möte. Inloggning kan ske från 17.00.\n\nAnmäl ditt deltagan
 de senast den 5 september!\n\nTom Britton\, professor i matematik och stat
 istik och välkänd Covid-TV-profil\, kommer att berätta om utmaningarna 
 och möjligheterna när det rör att modellera Covid-19:s spridning bland 
 befolkningen.\n\nFler inbjudna talare är Åsa Larson\, verksamhetschef f
 ör Försäkring på Finansinspektionen\, som ska berätta om hur de ser p
 å Covid och andra försäkringsrisker\, och Eva Erlandsson\, Svensk Förs
 äkring\, om arbetet med den nya Sjukvårdsutredningen och sjukförsäkrin
 gar. Sist talar Kristina Hagström\, hälsostrateg på Skandia\, om hur pa
 ndemin påverkat Skandia\, den nya hälso-och sjukvårdssatsningen och Ska
 ndias arbete med att koppla sjukförsäkring till tjänstepensionen. Vi r
 äknar med att det blir utrymme för frågor både via chatten och muntlig
 t.\n\nModererar gör ProSkandias styrelseledamot Sophie Nachemson-Ekwall.\
 n\nSista anmälningsdag är alltså 5 september. Innan mötet kommer du so
 m anmält dig att få ett mejl med en länk för att kunna delta.\n\nVälk
 ommen!
END:VEVENT
BEGIN:VTIMEZONE
TZID:Europe/Stockholm
X-LIC-LOCATION:Europe/Stockholm
BEGIN:DAYLIGHT
DTSTART:20210328T030000
TZOFFSETFROM:+0100
TZOFFSETTO:+0200
TZNAME:CEST
END:DAYLIGHT
END:VTIMEZONE
END:VCALENDAR