BEGIN:VCALENDAR
VERSION:2.0
PRODID:-//wp-events-plugin.com//7.2.3.1//EN
TZID:Europe/Stockholm
X-WR-TIMEZONE:Europe/Stockholm
BEGIN:VEVENT
UID:58@proskandia.se
DTSTART;TZID=Europe/Stockholm:20240207T161500
DTEND;TZID=Europe/Stockholm:20240207T190000
DTSTAMP:20240131T111010Z
URL:https://proskandia.se/evenemang/proskandias-medlemsmote-den-7-februari
 -2024/
SUMMARY:ProSkandias medlemsmöte den 7 februari 2024
DESCRIPTION:Välkommen  till ett medlemsmöte som tar sikte på alla delar
  i ”pensionspyramiden”: den allmänna pensionen\, tjänstepensionen oc
 h det egna pensionssparandet. Inbjudna talare är avdelningschefen Ole Set
 tergren\, Pensionsmyndigheten\, pensionsekonomen Mattias Munter\, Skandia\
 , vd på Skandia Fonder Annelie Enquist samt ProSkandias Hans G Svensson.\
 n\nFöre medlemsmötet ligger ett förmöte med Skandias privatrådgivare.
 \n\nProgram för pensionsseminariet:\n\n 	”Den allmänna pensionen” 
 – frågor och svar. Avdelningschef Ole Settergren\, Pensionsmyndigheten.
 \n 	Tjänstepension och eget pensionssparande\, två viktiga delar av pens
 ionspyramiden. Pensionsekonom Mattias Munter\, Skandia.\n 	Vad blir följd
 en av den nya ordningen för premiepensionen med en upphandlande myndighet
  ”Fondtorgsnämnden”? Skandia Fonders vd Annelie Enquist.\n 	Ställnin
 gstaganden och vägval i politiken för våra pensioner. Hans G Svensson (
 fd statsekreterare med ansvar för pensionsreformen) kåserar.\n\nTid för
  medlemsmötet: Onsdagen den 7 februari 2024 kl 17.30-19.00. Smörgås ser
 veras från 16.00.\nPlats: Fysiskt möte i Skandiasalen\, Skandias huvudko
 ntor\, Lindhagensgatan 86\, Stockholm. Mötet kan också följas digitalt 
 via Teams.\n\nTid för förmöte: 16.15-17.00. Lokal som ovan. Skandias pr
 ivatrådgivare Michael Huss informerar om aktuella nyheter. Oscar Strömme
 r Jakobsson och Lamija Cuprija från Verahill\, familjejuridik gör en gen
 omgång om arv och testamente. De kommer gå igenom hur de svenska arvsreg
 lerna ser ut och därefter prata om vad som kan och inte kan påverkas\, m
 ed hjälp av juridiska dokument.\n\nOBS: För vår planering vill vi gärn
 a att du anmäler ditt deltagande senast den 2 februari. Glöm inte välja
  rätt biljett\, antingen att du kommer till Skandiahuset eller deltar dig
 italt via Teams. Den som anmält att han eller hon följer mötet digitalt
  kommer att få mail med en länk till mötet.\n\nÄr ni två som kommer t
 ill medlemsmötet ange den medföljandes namn i kommentarsfältet.
LOCATION:Skandiasalen\, Lindhagensgatan 86\, 112 18 Stockholm\, Stockholm\,
  Stockholm\, 11218\, Stockholm\, Sverige
X-APPLE-STRUCTURED-LOCATION;VALUE=URI;X-ADDRESS=Lindhagensgatan 86\, 112 18
  Stockholm\, Stockholm\, Stockholm\, 11218\, Stockholm\, Sverige;X-APPLE-R
 ADIUS=100;X-TITLE=Skandiasalen:geo:0,0
END:VEVENT
BEGIN:VTIMEZONE
TZID:Europe/Stockholm
X-LIC-LOCATION:Europe/Stockholm
BEGIN:STANDARD
DTSTART:20231029T020000
TZOFFSETFROM:+0200
TZOFFSETTO:+0100
TZNAME:CET
END:STANDARD
END:VTIMEZONE
END:VCALENDAR