BEGIN:VCALENDAR
VERSION:2.0
PRODID:-//wp-events-plugin.com//7.2.3.1//EN
TZID:Europe/Stockholm
X-WR-TIMEZONE:Europe/Stockholm
BEGIN:VEVENT
UID:40@proskandia.se
DTSTART;TZID=Europe/Stockholm:20201007T180000
DTEND;TZID=Europe/Stockholm:20201007T193000
DTSTAMP:20201005T081413Z
URL:https://proskandia.se/evenemang/skandia-och-corona-agarmote/
SUMMARY:Skandia och Corona. Ägarmöte på webben
DESCRIPTION:Till höstens Ägarmöte den 7 oktober kl 18.00 har vi bjudit i
 n Skandias vd Frans Lindelöw och Skandias Hållbarhetschef\, Helena Hagbe
 rg. Frans Lindelöw kommer berätta om hur Skandia har hanterat och hanter
 ar den rådande Corona-pandemin. Helena Hagberg kommer att prata om hur Sk
 andia och framförallt Kapitalförvaltningen arbetar med ett hållbarhetsp
 erspektiv.\n\n[caption id="attachment_5492" align="alignright" width="135"
 ] Frans Lindelöw[/caption]\n\n\nHelena Hagberg\n\nModererar gör ProSkand
 ias ordförande Hans G Svensson och vice ordförande Sophie Nachemson-Ekwa
 ll. Ägarmötet blir i form av ett webb-seminarium som en anpassning till
  den rådande Corona-pademin. Det betyder samtidigt att vi kommer kunna ha
  ett gemensamt möte för hela Sverige. Det kommer finna möjlighet att st
 älla frågor.\n\nVi kommer använda det digitala verktyget Teams. Ni som 
 vill delta får efter er anmälan en länk till videomötet. Ni kan logga 
 in strax innan 17.30\, om ni vill vara med på båda mötena\, eller strax
  innan 18.00\, om ni bara vill lyssna på Ägarmötet. Om ni är ovana vid
  Teams är det bra att förbereda sig. Ni kan titta på länken här.\n\nA
 nmäl dig nedan\, senaste anmälningsdag är den 4 oktober. Om du inte har
  fått en länk senast den 6 oktober kontakta info@proskandia.se så skick
 ar vi en ny länk.\nÄn en gång varmt välkomna\n\nStyrelsen för ProSkan
 dia
END:VEVENT
BEGIN:VTIMEZONE
TZID:Europe/Stockholm
X-LIC-LOCATION:Europe/Stockholm
BEGIN:DAYLIGHT
DTSTART:20200329T030000
TZOFFSETFROM:+0100
TZOFFSETTO:+0200
TZNAME:CEST
END:DAYLIGHT
END:VTIMEZONE
END:VCALENDAR