BEGIN:VCALENDAR
VERSION:2.0
PRODID:-//wp-events-plugin.com//7.2.3.1//EN
TZID:Europe/Stockholm
X-WR-TIMEZONE:Europe/Stockholm
BEGIN:VEVENT
UID:41@proskandia.se
DTSTART;TZID=Europe/Stockholm:20210209T173000
DTEND;TZID=Europe/Stockholm:20210209T190000
DTSTAMP:20210205T140748Z
URL:https://proskandia.se/evenemang/skattereformen-och-pensionerna/
SUMMARY:Skattereformen och pensionerna
DESCRIPTION:Välkommen till till ett webb-möte med Klas Eklund och Mattias
  Munter den 9 februari 2021. Klas Eklund\, ekonomie licentiat och seniorek
 onom på advokatfirman Mannheimer Swartling\, kommer bland annat att tala 
 om sin senaste rapport  Vårt framtida skattesystem\, utgiven av ESO. Ma
 ttias Munter\, Skandias pensionsekonom\, kommer berätta om en ny pensions
 rapport\, beskattning och nya idéer kring hälsoförsäkringar. Hans G Sv
 ensson\, ordförande i ProSkandia och Sophie Nachemson-Ekwall\, vice ordf
 örande\, leder samtalet och det kommer finnas utrymme för frågor.\nMöt
 et sker via den digitala plattformen Zoom. Tiden är 17.30-19.00.\nSista a
 nmälningsdag är den 5 februari. Innan mötet kommer du att få ett mail 
 med en länk för att kunna delta i mötet.
END:VEVENT
BEGIN:VTIMEZONE
TZID:Europe/Stockholm
X-LIC-LOCATION:Europe/Stockholm
BEGIN:STANDARD
DTSTART:20201025T020000
TZOFFSETFROM:+0200
TZOFFSETTO:+0100
TZNAME:CET
END:STANDARD
END:VTIMEZONE
END:VCALENDAR