BEGIN:VCALENDAR
VERSION:2.0
PRODID:-//wp-events-plugin.com//7.2.3.1//EN
TZID:Europe/Stockholm
X-WR-TIMEZONE:Europe/Stockholm
BEGIN:VEVENT
UID:23@proskandia.se
DTSTART;TZID=Europe/Stockholm:20180207T180000
DTEND;TZID=Europe/Stockholm:20180207T193000
DTSTAMP:20180205T094401Z
URL:https://proskandia.se/evenemang/utbildningsdag-skandia-kapitalforvaltn
 ingen-och-banken/
SUMMARY:Fördjupningsseminarium 7 februari Kapitalförvaltningen och Skandi
 abanken
DESCRIPTION:Den 7 februari är det dags för vinterns fördjupningsseminari
 um för våra medlemmar. Temat i år blir tredelat:   – ”Alternativa 
 investeringar\, Skandiabanken och digitaliseringsrevolutionens utmaningar 
 för banken och försäkringsverksamheten”.  Vi har bjudit in Skandias 
 nya chef för Kapitalförvaltningen\, Lars-Göran Orrewall\, som tillsamma
 ns med kollegor ska berätta om hur Skandia arbetar med vårt pensionskapi
 tal i nuvarande lågräntemiljö och den växande marknaden med alternativ
 a placeringar. Vi har även bjudit in Johanna Cerwall\, sedan ett drygt å
 r vd för Skandiabanken. Hon ska berätta om alla nya digitala lösningar 
 och hur det påverkar banken och vårt försäkringssparandet.\n\nLeif Han
 sson\, ProSkandias ordförande\, leder samtalet. Kom förberedd med massor
  av frågor.\n\nHålltider: 17.00 mingel och tilltugg\n\n18.00-19.30 Samta
 l och frågestund\n\nVälkommen att anmäla dig via länken
LOCATION:Skandias Huvudkontor\, Lindhagensgatan 86\, Stockholm\, Sverige
GEO:59.333504;18.017076
X-APPLE-STRUCTURED-LOCATION;VALUE=URI;X-ADDRESS=Lindhagensgatan 86\, Stockh
 olm\, Sverige;X-APPLE-RADIUS=100;X-TITLE=Skandias Huvudkontor:geo:59.33350
 4,18.017076
END:VEVENT
BEGIN:VTIMEZONE
TZID:Europe/Stockholm
X-LIC-LOCATION:Europe/Stockholm
BEGIN:STANDARD
DTSTART:20171029T020000
TZOFFSETFROM:+0200
TZOFFSETTO:+0100
TZNAME:CET
END:STANDARD
END:VTIMEZONE
END:VCALENDAR